BEGIN:VCALENDAR
VERSION:2.0
PRODID:-//Warren-Trumbull County Public Library - ECPv6.15.17.1//NONSGML v1.0//EN
CALSCALE:GREGORIAN
METHOD:PUBLISH
X-ORIGINAL-URL:https://wtcpl.org
X-WR-CALDESC:Events for Warren-Trumbull County Public Library
REFRESH-INTERVAL;VALUE=DURATION:PT1H
X-Robots-Tag:noindex
X-PUBLISHED-TTL:PT1H
BEGIN:VTIMEZONE
TZID:America/New_York
BEGIN:DAYLIGHT
TZOFFSETFROM:-0500
TZOFFSETTO:-0400
TZNAME:EDT
DTSTART:20220313T070000
END:DAYLIGHT
BEGIN:STANDARD
TZOFFSETFROM:-0400
TZOFFSETTO:-0500
TZNAME:EST
DTSTART:20221106T060000
END:STANDARD
BEGIN:DAYLIGHT
TZOFFSETFROM:-0500
TZOFFSETTO:-0400
TZNAME:EDT
DTSTART:20230312T070000
END:DAYLIGHT
BEGIN:STANDARD
TZOFFSETFROM:-0400
TZOFFSETTO:-0500
TZNAME:EST
DTSTART:20231105T060000
END:STANDARD
BEGIN:DAYLIGHT
TZOFFSETFROM:-0500
TZOFFSETTO:-0400
TZNAME:EDT
DTSTART:20240310T070000
END:DAYLIGHT
BEGIN:STANDARD
TZOFFSETFROM:-0400
TZOFFSETTO:-0500
TZNAME:EST
DTSTART:20241103T060000
END:STANDARD
BEGIN:DAYLIGHT
TZOFFSETFROM:-0500
TZOFFSETTO:-0400
TZNAME:EDT
DTSTART:20250309T070000
END:DAYLIGHT
BEGIN:STANDARD
TZOFFSETFROM:-0400
TZOFFSETTO:-0500
TZNAME:EST
DTSTART:20251102T060000
END:STANDARD
END:VTIMEZONE
BEGIN:VEVENT
DTSTART;TZID=America/New_York:20240104T110000
DTEND;TZID=America/New_York:20240104T130000
DTSTAMP:20260421T043953
CREATED:20231024T154012Z
LAST-MODIFIED:20231129T174347Z
UID:25530-1704366000-1704373200@wtcpl.org
SUMMARY:Book a Tech Coach @ the Howland Library
DESCRIPTION:Need some help learning how to do something on a computer\, tablet\, or smart phone? You can book a 30-minute session with a library staff member who will answer your questions and walk you through what you’d like to do. Examples include learning how to move files to a flash drive\, save photos in the cloud\, or navigate a new phone. Call the Howland Library to reserve an appointment; call (330) 856-2011 to sign up. Free!
URL:https://wtcpl.org/event/book-a-tech-coach-the-howland-library-2/
LOCATION:Howland Branch Library\, 9095 East Market Street\, Warren\, OH\, 44484\, United States
CATEGORIES:Computer Class,Howland Library
END:VEVENT
BEGIN:VEVENT
DTSTART;TZID=America/New_York:20231014T130000
DTEND;TZID=America/New_York:20231014T160000
DTSTAMP:20260421T043953
CREATED:20231010T162655Z
LAST-MODIFIED:20231129T174640Z
UID:25295-1697288400-1697299200@wtcpl.org
SUMMARY:Book a Tech Coach @ the Warren Library
DESCRIPTION:Need some help learning how to do something on a computer\, tablet\, or smart phone? You can book a 30-minute session with a library staff member who will answer your questions and walk you through what you’d like to do. Examples include learning how to move files to a flash drive\, save photos in the cloud\, or navigate a new phone. At the Warren Library: Call the Public Computer Lab at (330) 399-8807 ext. 201 to reserve your appointment time. Appointments will be held in either the Classroom or the Public Computer Lab on the library’s 2nd floor. \n\nAppointments available Mondays between 5 — 7 p.m.\nAppointments available Saturdays between 1 — 4 p.m.\nOther days/times may be available as needed
URL:https://wtcpl.org/event/book-a-tech-coach-the-warren-library/
LOCATION:Warren Library\, 444 Mahoning Avenue NW\, Warren\, OH\, 44483\, United States
CATEGORIES:Computer Class,Warren Library
END:VEVENT
BEGIN:VEVENT
DTSTART;TZID=America/New_York:20231016T170000
DTEND;TZID=America/New_York:20231016T190000
DTSTAMP:20260421T043953
CREATED:20231010T161645Z
LAST-MODIFIED:20231129T174818Z
UID:25292-1697475600-1697482800@wtcpl.org
SUMMARY:Book a Tech Coach @ the Warren Library
DESCRIPTION:Need some help learning how to do something on a computer\, tablet\, or smart phone? You can book a 30-minute session with a library staff member who will answer your questions and walk you through what you’d like to do. Examples include learning how to move files to a flash drive\, save photos in the cloud\, or navigate a new phone. At the Warren Library: Call the Public Computer Lab at (330) 399-8807 ext. 201 to reserve your appointment time. Appointments will be held in either the Classroom or the Public Computer Lab on the library’s 2nd floor. \n\nAppointments available Mondays between 5 — 7 p.m.\nAppointments available Saturdays between 1 — 4 p.m.\nOther days/times may be available as needed
URL:https://wtcpl.org/event/book-a-tech-coach-warren-library/
LOCATION:Warren Library\, 444 Mahoning Avenue NW\, Warren\, OH\, 44483\, United States
CATEGORIES:Computer Class,Warren Library
END:VEVENT
BEGIN:VEVENT
DTSTART;TZID=America/New_York:20240110T140000
DTEND;TZID=America/New_York:20240110T150000
DTSTAMP:20260421T043953
CREATED:20231101T180906Z
LAST-MODIFIED:20231101T180906Z
UID:25784-1704895200-1704898800@wtcpl.org
SUMMARY:Beginning Computers 1 Class @ the Warren Library
DESCRIPTION:For adults who have never used a computer before. Learn how to use a mouse and keyboard\, how to turn a computer on and off\, and what parts make up a computer. Registration is required; call the Public Computer Lab at (330) 399-8807 ext. 201 to sign up. Free!
URL:https://wtcpl.org/event/beginning-computers-1-class-the-warren-library/
LOCATION:Warren Library\, 444 Mahoning Avenue NW\, Warren\, OH\, 44483\, United States
CATEGORIES:Computer Class,Warren Library
END:VEVENT
BEGIN:VEVENT
DTSTART;TZID=America/New_York:20240111T180000
DTEND;TZID=America/New_York:20240111T190000
DTSTAMP:20260421T043953
CREATED:20231101T182246Z
LAST-MODIFIED:20231101T182246Z
UID:25798-1704996000-1704999600@wtcpl.org
SUMMARY:Intro to Libby Class @ the Warren Library
DESCRIPTION:Want to learn more about borrowing e-books from the library? Join us for an introduction to the Libby app to learn how you can read library e-books on your own computer or mobile device. Whether you have used e-books in the past or are trying them for the first time\, we will be happy to help you get started! Please bring your fully charged device and your library card with you. Registration is required; call the Public Computer Lab at (330) 399-8807 ext. 201 to sign up. Free!
URL:https://wtcpl.org/event/intro-to-libby-class-the-warren-library/
LOCATION:Warren Library\, 444 Mahoning Avenue NW\, Warren\, OH\, 44483\, United States
CATEGORIES:Computer Class,Warren Library
END:VEVENT
BEGIN:VEVENT
DTSTART;TZID=America/New_York:20240113T110000
DTEND;TZID=America/New_York:20240113T120000
DTSTAMP:20260421T043953
CREATED:20231101T181803Z
LAST-MODIFIED:20231101T181803Z
UID:25794-1705143600-1705147200@wtcpl.org
SUMMARY:Intro to Smart Phones Class @ the Warren Library
DESCRIPTION:Learn how to navigate commonly used features on your Android or Apple smart phone! We’ll cover everything from the basics of using a smart phone\, to taking and sending photos\, to the most useful smart phone apps. Afterwards\, there will be time for answering your questions. Please bring your own fully-charged device. Registration is required; call the Public Computer Lab at (330) 399-8807 ext. 201 to sign up. Free!
URL:https://wtcpl.org/event/intro-to-smart-phones-class-the-warren-library/
LOCATION:Warren Library\, 444 Mahoning Avenue NW\, Warren\, OH\, 44483\, United States
CATEGORIES:Computer Class,Warren Library
END:VEVENT
BEGIN:VEVENT
DTSTART;TZID=America/New_York:20231014T130000
DTEND;TZID=America/New_York:20231014T160000
DTSTAMP:20260421T043953
CREATED:20231010T162655Z
LAST-MODIFIED:20231129T174640Z
UID:25295-1697288400-1697299200@wtcpl.org
SUMMARY:Book a Tech Coach @ the Warren Library
DESCRIPTION:Need some help learning how to do something on a computer\, tablet\, or smart phone? You can book a 30-minute session with a library staff member who will answer your questions and walk you through what you’d like to do. Examples include learning how to move files to a flash drive\, save photos in the cloud\, or navigate a new phone. At the Warren Library: Call the Public Computer Lab at (330) 399-8807 ext. 201 to reserve your appointment time. Appointments will be held in either the Classroom or the Public Computer Lab on the library’s 2nd floor. \n\nAppointments available Mondays between 5 — 7 p.m.\nAppointments available Saturdays between 1 — 4 p.m.\nOther days/times may be available as needed
URL:https://wtcpl.org/event/book-a-tech-coach-the-warren-library/
LOCATION:Warren Library\, 444 Mahoning Avenue NW\, Warren\, OH\, 44483\, United States
CATEGORIES:Computer Class,Warren Library
END:VEVENT
BEGIN:VEVENT
DTSTART;TZID=America/New_York:20240117T140000
DTEND;TZID=America/New_York:20240117T150000
DTSTAMP:20260421T043953
CREATED:20231101T181106Z
LAST-MODIFIED:20231101T181106Z
UID:25786-1705500000-1705503600@wtcpl.org
SUMMARY:Beginning Computers 2 Class @ the Warren Library
DESCRIPTION:Learn basic use of a Windows computer\, including the desktop\, the Start menu\, and opening/closing programs. Prerequisites: “Beginning Computers 1” class or familiarity with mouse and keyboard. Registration is required; call the Public Computer Lab at (330) 399-8807 ext. 201 to sign up. Free!
URL:https://wtcpl.org/event/beginning-computers-2-class-the-warren-library/
LOCATION:Warren Library\, 444 Mahoning Avenue NW\, Warren\, OH\, 44483\, United States
CATEGORIES:Computer Class,Warren Library
END:VEVENT
BEGIN:VEVENT
DTSTART;TZID=America/New_York:20231014T130000
DTEND;TZID=America/New_York:20231014T160000
DTSTAMP:20260421T043953
CREATED:20231010T162655Z
LAST-MODIFIED:20231129T174640Z
UID:25295-1697288400-1697299200@wtcpl.org
SUMMARY:Book a Tech Coach @ the Warren Library
DESCRIPTION:Need some help learning how to do something on a computer\, tablet\, or smart phone? You can book a 30-minute session with a library staff member who will answer your questions and walk you through what you’d like to do. Examples include learning how to move files to a flash drive\, save photos in the cloud\, or navigate a new phone. At the Warren Library: Call the Public Computer Lab at (330) 399-8807 ext. 201 to reserve your appointment time. Appointments will be held in either the Classroom or the Public Computer Lab on the library’s 2nd floor. \n\nAppointments available Mondays between 5 — 7 p.m.\nAppointments available Saturdays between 1 — 4 p.m.\nOther days/times may be available as needed
URL:https://wtcpl.org/event/book-a-tech-coach-the-warren-library/
LOCATION:Warren Library\, 444 Mahoning Avenue NW\, Warren\, OH\, 44483\, United States
CATEGORIES:Computer Class,Warren Library
END:VEVENT
BEGIN:VEVENT
DTSTART;TZID=America/New_York:20231016T170000
DTEND;TZID=America/New_York:20231016T190000
DTSTAMP:20260421T043953
CREATED:20231010T161645Z
LAST-MODIFIED:20231129T174818Z
UID:25292-1697475600-1697482800@wtcpl.org
SUMMARY:Book a Tech Coach @ the Warren Library
DESCRIPTION:Need some help learning how to do something on a computer\, tablet\, or smart phone? You can book a 30-minute session with a library staff member who will answer your questions and walk you through what you’d like to do. Examples include learning how to move files to a flash drive\, save photos in the cloud\, or navigate a new phone. At the Warren Library: Call the Public Computer Lab at (330) 399-8807 ext. 201 to reserve your appointment time. Appointments will be held in either the Classroom or the Public Computer Lab on the library’s 2nd floor. \n\nAppointments available Mondays between 5 — 7 p.m.\nAppointments available Saturdays between 1 — 4 p.m.\nOther days/times may be available as needed
URL:https://wtcpl.org/event/book-a-tech-coach-warren-library/
LOCATION:Warren Library\, 444 Mahoning Avenue NW\, Warren\, OH\, 44483\, United States
CATEGORIES:Computer Class,Warren Library
END:VEVENT
BEGIN:VEVENT
DTSTART;TZID=America/New_York:20240123T110000
DTEND;TZID=America/New_York:20240123T120000
DTSTAMP:20260421T043953
CREATED:20231101T181603Z
LAST-MODIFIED:20231101T181603Z
UID:25792-1706007600-1706011200@wtcpl.org
SUMMARY:Intro to the Internet @ the Warren Library
DESCRIPTION:Learn how to use a web browser\, how to navigate websites\, and how to search the Internet. Prerequisites: familiarity with a mouse and keyboard; basic computer use. Registration is required; call the Public Computer Lab at (330) 399-8807 ext. 201 to sign up. Free!
URL:https://wtcpl.org/event/intro-to-the-internet-the-warren-library/
LOCATION:Warren Library\, 444 Mahoning Avenue NW\, Warren\, OH\, 44483\, United States
CATEGORIES:Computer Class,Warren Library
END:VEVENT
BEGIN:VEVENT
DTSTART;TZID=America/New_York:20240124T140000
DTEND;TZID=America/New_York:20240124T150000
DTSTAMP:20260421T043953
CREATED:20231101T181251Z
LAST-MODIFIED:20231101T181251Z
UID:25788-1706104800-1706108400@wtcpl.org
SUMMARY:Beginning Computers 3 Class @ the Warren Library
DESCRIPTION:Continue to learn about using Windows PCs\, including changing the desktop background and screen magnification\, creating shortcuts\, using folders\, and copy/paste. Prerequisites: “Beginning Computers 1 and 2”\, or familiarity with opening and closing Windows programs. Registration is required; call the Public Computer Lab at (330) 399-8807 ext. 201 to sign up. Free!
URL:https://wtcpl.org/event/beginning-computers-3-class-the-warren-library/
LOCATION:Warren Library\, 444 Mahoning Avenue NW\, Warren\, OH\, 44483\, United States
CATEGORIES:Computer Class,Warren Library
END:VEVENT
BEGIN:VEVENT
DTSTART;TZID=America/New_York:20240127T110000
DTEND;TZID=America/New_York:20240127T120000
DTSTAMP:20260421T043953
CREATED:20231101T182443Z
LAST-MODIFIED:20231101T182443Z
UID:25800-1706353200-1706356800@wtcpl.org
SUMMARY:What is ChatGPT? @ the Warren Library
DESCRIPTION:Have you heard about ChatGPT? Are you wondering what this new tech is all about? This program will give you a basic overview of what generative artificial intelligence is\, how it can be useful to you\, and what you should be cautious of. You will also have the chance to try it yourself! Prerequisites: basic use of computer/ smartphone. Registration is required; call the Public Computer Lab at (330) 399-8807 ext. 201 to sign up. Free!
URL:https://wtcpl.org/event/what-is-chatgpt-the-warren-library/
LOCATION:Warren Library\, 444 Mahoning Avenue NW\, Warren\, OH\, 44483\, United States
CATEGORIES:Computer Class,Warren Library
END:VEVENT
BEGIN:VEVENT
DTSTART;TZID=America/New_York:20231014T130000
DTEND;TZID=America/New_York:20231014T160000
DTSTAMP:20260421T043953
CREATED:20231010T162655Z
LAST-MODIFIED:20231129T174640Z
UID:25295-1697288400-1697299200@wtcpl.org
SUMMARY:Book a Tech Coach @ the Warren Library
DESCRIPTION:Need some help learning how to do something on a computer\, tablet\, or smart phone? You can book a 30-minute session with a library staff member who will answer your questions and walk you through what you’d like to do. Examples include learning how to move files to a flash drive\, save photos in the cloud\, or navigate a new phone. At the Warren Library: Call the Public Computer Lab at (330) 399-8807 ext. 201 to reserve your appointment time. Appointments will be held in either the Classroom or the Public Computer Lab on the library’s 2nd floor. \n\nAppointments available Mondays between 5 — 7 p.m.\nAppointments available Saturdays between 1 — 4 p.m.\nOther days/times may be available as needed
URL:https://wtcpl.org/event/book-a-tech-coach-the-warren-library/
LOCATION:Warren Library\, 444 Mahoning Avenue NW\, Warren\, OH\, 44483\, United States
CATEGORIES:Computer Class,Warren Library
END:VEVENT
BEGIN:VEVENT
DTSTART;TZID=America/New_York:20231016T170000
DTEND;TZID=America/New_York:20231016T190000
DTSTAMP:20260421T043953
CREATED:20231010T161645Z
LAST-MODIFIED:20231129T174818Z
UID:25292-1697475600-1697482800@wtcpl.org
SUMMARY:Book a Tech Coach @ the Warren Library
DESCRIPTION:Need some help learning how to do something on a computer\, tablet\, or smart phone? You can book a 30-minute session with a library staff member who will answer your questions and walk you through what you’d like to do. Examples include learning how to move files to a flash drive\, save photos in the cloud\, or navigate a new phone. At the Warren Library: Call the Public Computer Lab at (330) 399-8807 ext. 201 to reserve your appointment time. Appointments will be held in either the Classroom or the Public Computer Lab on the library’s 2nd floor. \n\nAppointments available Mondays between 5 — 7 p.m.\nAppointments available Saturdays between 1 — 4 p.m.\nOther days/times may be available as needed
URL:https://wtcpl.org/event/book-a-tech-coach-warren-library/
LOCATION:Warren Library\, 444 Mahoning Avenue NW\, Warren\, OH\, 44483\, United States
CATEGORIES:Computer Class,Warren Library
END:VEVENT
BEGIN:VEVENT
DTSTART;TZID=America/New_York:20240130T110000
DTEND;TZID=America/New_York:20240130T120000
DTSTAMP:20260421T043953
CREATED:20231101T181424Z
LAST-MODIFIED:20231101T181424Z
UID:25790-1706612400-1706616000@wtcpl.org
SUMMARY:Intro to Email Class @ the Warren Library
DESCRIPTION:Learn how to read and send emails\, how to navigate your inbox and other email folders\, and how to use email attachments. Prerequisites: familiarity with a mouse and keyboard; basic computer use. Registration is required; call the Public Computer Lab at (330) 399-8807 ext. 201 to sign up. Free!
URL:https://wtcpl.org/event/intro-to-email-class-the-warren-library/
LOCATION:Warren Library\, 444 Mahoning Avenue NW\, Warren\, OH\, 44483\, United States
CATEGORIES:Computer Class,Warren Library
END:VEVENT
END:VCALENDAR