BEGIN:VCALENDAR
VERSION:2.0
PRODID:-//Warren-Trumbull County Public Library - ECPv6.15.17.1//NONSGML v1.0//EN
CALSCALE:GREGORIAN
METHOD:PUBLISH
X-WR-CALNAME:Warren-Trumbull County Public Library
X-ORIGINAL-URL:https://wtcpl.org
X-WR-CALDESC:Events for Warren-Trumbull County Public Library
REFRESH-INTERVAL;VALUE=DURATION:PT1H
X-Robots-Tag:noindex
X-PUBLISHED-TTL:PT1H
BEGIN:VTIMEZONE
TZID:America/New_York
BEGIN:DAYLIGHT
TZOFFSETFROM:-0500
TZOFFSETTO:-0400
TZNAME:EDT
DTSTART:20220313T070000
END:DAYLIGHT
BEGIN:STANDARD
TZOFFSETFROM:-0400
TZOFFSETTO:-0500
TZNAME:EST
DTSTART:20221106T060000
END:STANDARD
BEGIN:DAYLIGHT
TZOFFSETFROM:-0500
TZOFFSETTO:-0400
TZNAME:EDT
DTSTART:20230312T070000
END:DAYLIGHT
BEGIN:STANDARD
TZOFFSETFROM:-0400
TZOFFSETTO:-0500
TZNAME:EST
DTSTART:20231105T060000
END:STANDARD
BEGIN:DAYLIGHT
TZOFFSETFROM:-0500
TZOFFSETTO:-0400
TZNAME:EDT
DTSTART:20240310T070000
END:DAYLIGHT
BEGIN:STANDARD
TZOFFSETFROM:-0400
TZOFFSETTO:-0500
TZNAME:EST
DTSTART:20241103T060000
END:STANDARD
END:VTIMEZONE
BEGIN:VEVENT
DTSTART;TZID=America/New_York:20231007T100000
DTEND;TZID=America/New_York:20231007T110000
DTSTAMP:20260423T080246
CREATED:20230823T135914Z
LAST-MODIFIED:20230914T134722Z
UID:24746-1696672800-1696676400@wtcpl.org
SUMMARY:Internet and Computer Safety Basics @ Warren Library
DESCRIPTION:Learn about potential threats to your computer and your personal information. Learn how to recognize and avoid scams while using the Internet and email. Learn how to use tools built in to Windows to keep your computer safe. Prerequisites: basic familiarity with Windows computers\, Internet\, and email. Registration is required; call (330) 399-8807 ext. 201 to sign up. Free!
URL:https://wtcpl.org/event/internet-and-computer-safety-basics-warren-library/
LOCATION:Warren Library\, 444 Mahoning Avenue NW\, Warren\, OH\, 44483\, United States
CATEGORIES:Computer Class,Warren Library
END:VEVENT
BEGIN:VEVENT
DTSTART;TZID=America/New_York:20231014T130000
DTEND;TZID=America/New_York:20231014T160000
DTSTAMP:20260423T080246
CREATED:20231010T162655Z
LAST-MODIFIED:20231129T174640Z
UID:25295-1697288400-1697299200@wtcpl.org
SUMMARY:Book a Tech Coach @ the Warren Library
DESCRIPTION:Need some help learning how to do something on a computer\, tablet\, or smart phone? You can book a 30-minute session with a library staff member who will answer your questions and walk you through what you’d like to do. Examples include learning how to move files to a flash drive\, save photos in the cloud\, or navigate a new phone. At the Warren Library: Call the Public Computer Lab at (330) 399-8807 ext. 201 to reserve your appointment time. Appointments will be held in either the Classroom or the Public Computer Lab on the library’s 2nd floor. \n\nAppointments available Mondays between 5 — 7 p.m.\nAppointments available Saturdays between 1 — 4 p.m.\nOther days/times may be available as needed
URL:https://wtcpl.org/event/book-a-tech-coach-the-warren-library/
LOCATION:Warren Library\, 444 Mahoning Avenue NW\, Warren\, OH\, 44483\, United States
CATEGORIES:Computer Class,Warren Library
END:VEVENT
BEGIN:VEVENT
DTSTART;TZID=America/New_York:20231016T170000
DTEND;TZID=America/New_York:20231016T190000
DTSTAMP:20260423T080246
CREATED:20231010T161645Z
LAST-MODIFIED:20231129T174818Z
UID:25292-1697475600-1697482800@wtcpl.org
SUMMARY:Book a Tech Coach @ the Warren Library
DESCRIPTION:Need some help learning how to do something on a computer\, tablet\, or smart phone? You can book a 30-minute session with a library staff member who will answer your questions and walk you through what you’d like to do. Examples include learning how to move files to a flash drive\, save photos in the cloud\, or navigate a new phone. At the Warren Library: Call the Public Computer Lab at (330) 399-8807 ext. 201 to reserve your appointment time. Appointments will be held in either the Classroom or the Public Computer Lab on the library’s 2nd floor. \n\nAppointments available Mondays between 5 — 7 p.m.\nAppointments available Saturdays between 1 — 4 p.m.\nOther days/times may be available as needed
URL:https://wtcpl.org/event/book-a-tech-coach-warren-library/
LOCATION:Warren Library\, 444 Mahoning Avenue NW\, Warren\, OH\, 44483\, United States
CATEGORIES:Computer Class,Warren Library
END:VEVENT
BEGIN:VEVENT
DTSTART;TZID=America/New_York:20231016T180000
DTEND;TZID=America/New_York:20231016T190000
DTSTAMP:20260423T080246
CREATED:20230823T140237Z
LAST-MODIFIED:20230914T135840Z
UID:24750-1697479200-1697482800@wtcpl.org
SUMMARY:Intro to Internet @ Warren Library
DESCRIPTION:Learn how to use a web browser\, how to navigate websites\, and how to search the Internet. Prerequisites: familiarity with a mouse and keyboard; basic computer use. Registration is required; call (330) 399-8807 ext. 201 to sign up. Free!
URL:https://wtcpl.org/event/intro-to-internet-warren-library/
LOCATION:Warren Library\, 444 Mahoning Avenue NW\, Warren\, OH\, 44483\, United States
CATEGORIES:Computer Class,Warren Library
END:VEVENT
BEGIN:VEVENT
DTSTART;TZID=America/New_York:20231021T110000
DTEND;TZID=America/New_York:20231021T120000
DTSTAMP:20260423T080246
CREATED:20230817T130502Z
LAST-MODIFIED:20230914T132310Z
UID:24556-1697886000-1697889600@wtcpl.org
SUMMARY:Next Level Computer Learners Group @ Warren Library
DESCRIPTION:Have you taken all of W-TCPL’s introductory computer classes? Looking to move to the next level? Join us for a lightly structured workshop where you can bring your questions and collaborate with other learners to improve your skills. An instructor will facilitate and help answer questions. Topics covered may include Windows keyboard shortcuts\, specific Microsoft Office projects\, and how to learn more on your own. Prerequisites: completion of all Beginning Computer classes and Introduction to Microsoft Office classes\, or equivalent experience.
URL:https://wtcpl.org/event/next-level-computer-learners-group-2/
LOCATION:Warren Library\, 444 Mahoning Avenue NW\, Warren\, OH\, 44483\, United States
CATEGORIES:Computer Class,Warren Library
END:VEVENT
BEGIN:VEVENT
DTSTART;TZID=America/New_York:20231014T130000
DTEND;TZID=America/New_York:20231014T160000
DTSTAMP:20260423T080246
CREATED:20231010T162655Z
LAST-MODIFIED:20231129T174640Z
UID:25295-1697288400-1697299200@wtcpl.org
SUMMARY:Book a Tech Coach @ the Warren Library
DESCRIPTION:Need some help learning how to do something on a computer\, tablet\, or smart phone? You can book a 30-minute session with a library staff member who will answer your questions and walk you through what you’d like to do. Examples include learning how to move files to a flash drive\, save photos in the cloud\, or navigate a new phone. At the Warren Library: Call the Public Computer Lab at (330) 399-8807 ext. 201 to reserve your appointment time. Appointments will be held in either the Classroom or the Public Computer Lab on the library’s 2nd floor. \n\nAppointments available Mondays between 5 — 7 p.m.\nAppointments available Saturdays between 1 — 4 p.m.\nOther days/times may be available as needed
URL:https://wtcpl.org/event/book-a-tech-coach-the-warren-library/
LOCATION:Warren Library\, 444 Mahoning Avenue NW\, Warren\, OH\, 44483\, United States
CATEGORIES:Computer Class,Warren Library
END:VEVENT
BEGIN:VEVENT
DTSTART;TZID=America/New_York:20231016T170000
DTEND;TZID=America/New_York:20231016T190000
DTSTAMP:20260423T080246
CREATED:20231010T161645Z
LAST-MODIFIED:20231129T174818Z
UID:25292-1697475600-1697482800@wtcpl.org
SUMMARY:Book a Tech Coach @ the Warren Library
DESCRIPTION:Need some help learning how to do something on a computer\, tablet\, or smart phone? You can book a 30-minute session with a library staff member who will answer your questions and walk you through what you’d like to do. Examples include learning how to move files to a flash drive\, save photos in the cloud\, or navigate a new phone. At the Warren Library: Call the Public Computer Lab at (330) 399-8807 ext. 201 to reserve your appointment time. Appointments will be held in either the Classroom or the Public Computer Lab on the library’s 2nd floor. \n\nAppointments available Mondays between 5 — 7 p.m.\nAppointments available Saturdays between 1 — 4 p.m.\nOther days/times may be available as needed
URL:https://wtcpl.org/event/book-a-tech-coach-warren-library/
LOCATION:Warren Library\, 444 Mahoning Avenue NW\, Warren\, OH\, 44483\, United States
CATEGORIES:Computer Class,Warren Library
END:VEVENT
BEGIN:VEVENT
DTSTART;TZID=America/New_York:20231023T173000
DTEND;TZID=America/New_York:20231023T193000
DTSTAMP:20260423T080246
CREATED:20230803T165109Z
LAST-MODIFIED:20230914T140834Z
UID:24260-1698082200-1698089400@wtcpl.org
SUMMARY:Book a Tech Coach @ Howland Library
DESCRIPTION:Need some help learning how to do something on a computer\, tablet\, or smart phone? You can book a 30-minute session with a library staff member who will answer your questions and walk you through what you’d like to do. Examples include learning how to send an email\, share a photo\, or borrow eBooks from the library. Call the Howland Library to reserve an appointment; call (330) 856-2011 to sign up. Free!
URL:https://wtcpl.org/event/book-a-tech-coach-howland-library-2/
LOCATION:Howland Branch Library\, 9095 East Market Street\, Warren\, OH\, 44484\, United States
CATEGORIES:Computer Class,Howland Library
END:VEVENT
BEGIN:VEVENT
DTSTART;TZID=America/New_York:20231023T180000
DTEND;TZID=America/New_York:20231023T190000
DTSTAMP:20260423T080246
CREATED:20230823T140057Z
LAST-MODIFIED:20230914T140929Z
UID:24748-1698084000-1698087600@wtcpl.org
SUMMARY:Intro to Email @ Warren Library
DESCRIPTION:Learn how to read and send emails\, how to navigate your inbox and other email folders\, and how to use email attachments. Prerequisites: familiarity with a mouse and keyboard; basic computer use. Registration is required; call (330) 399-8807 ext. 201 to sign up. Free!
URL:https://wtcpl.org/event/intro-to-email-warren-library/
LOCATION:Warren Library\, 444 Mahoning Avenue NW\, Warren\, OH\, 44483\, United States
CATEGORIES:Computer Class,Warren Library
END:VEVENT
BEGIN:VEVENT
DTSTART;TZID=America/New_York:20231014T130000
DTEND;TZID=America/New_York:20231014T160000
DTSTAMP:20260423T080246
CREATED:20231010T162655Z
LAST-MODIFIED:20231129T174640Z
UID:25295-1697288400-1697299200@wtcpl.org
SUMMARY:Book a Tech Coach @ the Warren Library
DESCRIPTION:Need some help learning how to do something on a computer\, tablet\, or smart phone? You can book a 30-minute session with a library staff member who will answer your questions and walk you through what you’d like to do. Examples include learning how to move files to a flash drive\, save photos in the cloud\, or navigate a new phone. At the Warren Library: Call the Public Computer Lab at (330) 399-8807 ext. 201 to reserve your appointment time. Appointments will be held in either the Classroom or the Public Computer Lab on the library’s 2nd floor. \n\nAppointments available Mondays between 5 — 7 p.m.\nAppointments available Saturdays between 1 — 4 p.m.\nOther days/times may be available as needed
URL:https://wtcpl.org/event/book-a-tech-coach-the-warren-library/
LOCATION:Warren Library\, 444 Mahoning Avenue NW\, Warren\, OH\, 44483\, United States
CATEGORIES:Computer Class,Warren Library
END:VEVENT
BEGIN:VEVENT
DTSTART;TZID=America/New_York:20231016T170000
DTEND;TZID=America/New_York:20231016T190000
DTSTAMP:20260423T080246
CREATED:20231010T161645Z
LAST-MODIFIED:20231129T174818Z
UID:25292-1697475600-1697482800@wtcpl.org
SUMMARY:Book a Tech Coach @ the Warren Library
DESCRIPTION:Need some help learning how to do something on a computer\, tablet\, or smart phone? You can book a 30-minute session with a library staff member who will answer your questions and walk you through what you’d like to do. Examples include learning how to move files to a flash drive\, save photos in the cloud\, or navigate a new phone. At the Warren Library: Call the Public Computer Lab at (330) 399-8807 ext. 201 to reserve your appointment time. Appointments will be held in either the Classroom or the Public Computer Lab on the library’s 2nd floor. \n\nAppointments available Mondays between 5 — 7 p.m.\nAppointments available Saturdays between 1 — 4 p.m.\nOther days/times may be available as needed
URL:https://wtcpl.org/event/book-a-tech-coach-warren-library/
LOCATION:Warren Library\, 444 Mahoning Avenue NW\, Warren\, OH\, 44483\, United States
CATEGORIES:Computer Class,Warren Library
END:VEVENT
END:VCALENDAR