BEGIN:VCALENDAR
VERSION:2.0
PRODID:-//Warren-Trumbull County Public Library - ECPv6.15.17.1//NONSGML v1.0//EN
CALSCALE:GREGORIAN
METHOD:PUBLISH
X-WR-CALNAME:Warren-Trumbull County Public Library
X-ORIGINAL-URL:https://wtcpl.org
X-WR-CALDESC:Events for Warren-Trumbull County Public Library
REFRESH-INTERVAL;VALUE=DURATION:PT1H
X-Robots-Tag:noindex
X-PUBLISHED-TTL:PT1H
BEGIN:VTIMEZONE
TZID:America/New_York
BEGIN:DAYLIGHT
TZOFFSETFROM:-0500
TZOFFSETTO:-0400
TZNAME:EDT
DTSTART:20220313T070000
END:DAYLIGHT
BEGIN:STANDARD
TZOFFSETFROM:-0400
TZOFFSETTO:-0500
TZNAME:EST
DTSTART:20221106T060000
END:STANDARD
BEGIN:DAYLIGHT
TZOFFSETFROM:-0500
TZOFFSETTO:-0400
TZNAME:EDT
DTSTART:20230312T070000
END:DAYLIGHT
BEGIN:STANDARD
TZOFFSETFROM:-0400
TZOFFSETTO:-0500
TZNAME:EST
DTSTART:20231105T060000
END:STANDARD
BEGIN:DAYLIGHT
TZOFFSETFROM:-0500
TZOFFSETTO:-0400
TZNAME:EDT
DTSTART:20240310T070000
END:DAYLIGHT
BEGIN:STANDARD
TZOFFSETFROM:-0400
TZOFFSETTO:-0500
TZNAME:EST
DTSTART:20241103T060000
END:STANDARD
END:VTIMEZONE
BEGIN:VEVENT
DTSTART;TZID=America/New_York:20230905T140000
DTEND;TZID=America/New_York:20230905T150000
DTSTAMP:20260423T095552
CREATED:20230816T174722Z
LAST-MODIFIED:20230914T125850Z
UID:24526-1693922400-1693926000@wtcpl.org
SUMMARY:Beginning Computers 1 @ Warren Library
DESCRIPTION:For adults who have never used a computer before. Learn how to use a mouse and keyboard\, how to turn a computer on and off\, and what parts make up a computer. Held at the Warren Library in the Classroom (Room 215) on the 2nd floor. Registration is required. Call (330) 399-8807 ext. 201 to sign up. Free!
URL:https://wtcpl.org/event/beginning-computers-1-warren-library/
LOCATION:Warren Library\, 444 Mahoning Avenue NW\, Warren\, OH\, 44483\, United States
CATEGORIES:Computer Class,Warren Library
END:VEVENT
BEGIN:VEVENT
DTSTART;TZID=America/New_York:20230906T180000
DTEND;TZID=America/New_York:20230906T200000
DTSTAMP:20260423T095552
CREATED:20230816T184238Z
LAST-MODIFIED:20230914T143235Z
UID:24541-1694023200-1694030400@wtcpl.org
SUMMARY:Microsoft Excel @ Warren Library
DESCRIPTION:Learn the basics of Excel by creating a budget spreadsheet and making Excel do all the math for you! Familiarity with a mouse\, keyboard\, and computer required. Class will be held in the Warren Library Classroom (Room 215) on the 2nd floor. Registration is required; call (330) 399-8807 ext. 201. Free!
URL:https://wtcpl.org/event/microsoft-excel-warren-library/
LOCATION:Warren Library\, 444 Mahoning Avenue NW\, Warren\, OH\, 44483\, United States
CATEGORIES:Computer Class,Warren Library
END:VEVENT
BEGIN:VEVENT
DTSTART;TZID=America/New_York:20230907T140000
DTEND;TZID=America/New_York:20230907T160000
DTSTAMP:20260423T095552
CREATED:20230803T164911Z
LAST-MODIFIED:20230905T125319Z
UID:24258-1694095200-1694102400@wtcpl.org
SUMMARY:*CANCELLED* Book a Tech Coach @ Howland Library
DESCRIPTION:
URL:https://wtcpl.org/event/book-a-tech-coach-howland-library/
LOCATION:Howland Branch Library\, 9095 East Market Street\, Warren\, OH\, 44484\, United States
CATEGORIES:Computer Class,Howland Library
END:VEVENT
BEGIN:VEVENT
DTSTART;TZID=America/New_York:20230912T140000
DTEND;TZID=America/New_York:20230912T150000
DTSTAMP:20260423T095552
CREATED:20230816T175605Z
LAST-MODIFIED:20230914T125739Z
UID:24530-1694527200-1694530800@wtcpl.org
SUMMARY:Beginning Computers 2 @ Warren Library
DESCRIPTION:Learn basic use of a Windows computer\, including the desktop\, the Start menu\, and opening/closing programs. Prerequisites: “Beginning Computers 1” or familiarity with mouse and keyboard. Class held at the Warren Library in the Classroom (Room 215) on the 2nd floor. Registration required; call (330) 399-8807 ext. 201 to sign up. Free!
URL:https://wtcpl.org/event/beginning-computers-2-warren-library/
LOCATION:Warren Library\, 444 Mahoning Avenue NW\, Warren\, OH\, 44483\, United States
CATEGORIES:Computer Class,Warren Library
END:VEVENT
BEGIN:VEVENT
DTSTART;TZID=America/New_York:20230918T140000
DTEND;TZID=America/New_York:20230918T150000
DTSTAMP:20260423T095552
CREATED:20230816T191303Z
LAST-MODIFIED:20230914T132703Z
UID:24546-1695045600-1695049200@wtcpl.org
SUMMARY:Microsoft Word 1 @ Warren Library
DESCRIPTION:Learn the basics of formatting\, editing\, printing\, and saving. Prerequisite: comfortable with a mouse and some typing. Class will be held in the Warren Library Classroom (Room 215) on the 2nd floor. Registration required; call (330) 399-8807 ext. 201 to sign up. Free!
URL:https://wtcpl.org/event/microsoft-word-1-warren-library/
LOCATION:Warren Library\, 444 Mahoning Avenue NW\, Warren\, OH\, 44483\, United States
CATEGORIES:Computer Class,Warren Library
END:VEVENT
BEGIN:VEVENT
DTSTART;TZID=America/New_York:20230919T140000
DTEND;TZID=America/New_York:20230919T150000
DTSTAMP:20260423T095552
CREATED:20230816T180947Z
LAST-MODIFIED:20230914T125657Z
UID:24534-1695132000-1695135600@wtcpl.org
SUMMARY:Beginning Computers 3 @ Warren Library
DESCRIPTION:Continue to learn about using Windows PCs\, including changing the desktop background and screen magnification\, creating shortcuts\, using folders\, and copy/paste. Prerequisites: “Beginning Computers 1 and 2”\, or familiarity with opening and closing Windows programs. Held in the Warren Library in the Classroom (Room 215) on the 2nd floor. Registration required; call (330) 399-8807 ext. 201 to sign up. Free!
URL:https://wtcpl.org/event/beginning-computers-3-warren-library/
LOCATION:Warren Library\, 444 Mahoning Avenue NW\, Warren\, OH\, 44483\, United States
CATEGORIES:Computer Class,Warren Library
END:VEVENT
BEGIN:VEVENT
DTSTART;TZID=America/New_York:20230920T180000
DTEND;TZID=America/New_York:20230920T190000
DTSTAMP:20260423T095552
CREATED:20230816T182511Z
LAST-MODIFIED:20230914T130518Z
UID:24539-1695232800-1695236400@wtcpl.org
SUMMARY:Intro to Libby @ Warren Library
DESCRIPTION:Want to learn more about borrowing e-books from the library? Join us for an introduction to the Libby app to learn how you can read library e-books on your own computer or mobile device. Whether you have used e-books in the past or are trying them for the first time\, we will be happy to help you get started! Please bring your fully charged device with you. Class will be held in the Warren Library Classroom (Roo 215) on the 2nd floor. Registration required; call (330) 399-8807 ext. 201 to sign up. Free!
URL:https://wtcpl.org/event/intro-to-libby-warren-library/
LOCATION:Warren Library\, 444 Mahoning Avenue NW\, Warren\, OH\, 44483\, United States
CATEGORIES:Computer Class,Warren Library
END:VEVENT
BEGIN:VEVENT
DTSTART;TZID=America/New_York:20230923T110000
DTEND;TZID=America/New_York:20230923T120000
DTSTAMP:20260423T095552
CREATED:20230817T125353Z
LAST-MODIFIED:20230914T132242Z
UID:24554-1695466800-1695470400@wtcpl.org
SUMMARY:Next Level Computer Learners Group @ Warren Library
DESCRIPTION:Have you taken all of W-TCPL’s introductory computer classes? Looking to move to the next level? Join us for a lightly structured workshop where you can bring your questions and collaborate with other learners to improve your skills. An instructor will facilitate and help answer questions. Topics covered may include Windows keyboard shortcuts\, specific Microsoft Office projects\, and how to learn more on your own. Prerequisites: completion of all Beginning Computer classes and Introduction to Microsoft Office classes\, or equivalent experience.
URL:https://wtcpl.org/event/next-level-computer-learners-group/
LOCATION:Warren Library\, 444 Mahoning Avenue NW\, Warren\, OH\, 44483\, United States
CATEGORIES:Computer Class,Warren Library
END:VEVENT
BEGIN:VEVENT
DTSTART;TZID=America/New_York:20230925T140000
DTEND;TZID=America/New_York:20230925T150000
DTSTAMP:20260423T095552
CREATED:20230816T192212Z
LAST-MODIFIED:20230914T132634Z
UID:24550-1695650400-1695654000@wtcpl.org
SUMMARY:Microsoft Word 2 @ Warren Library
DESCRIPTION:Continue learning about Microsoft Office\, including bullet points\, columns\, color\, and inserting pictures. Prerequisite: the course “Microsoft Word 1.” Class will be held in the Warren Library Classroom (Room 215) on the 2nd floor. Registration is required; call (330) 399-8807 ext. 201 to sign up. Free!
URL:https://wtcpl.org/event/microsoft-word-2-warren-library/
LOCATION:Warren Library\, 444 Mahoning Avenue NW\, Warren\, OH\, 44483\, United States
CATEGORIES:Computer Class,Warren Library
END:VEVENT
END:VCALENDAR