BEGIN:VCALENDAR
VERSION:2.0
PRODID:-//Warren-Trumbull County Public Library - ECPv6.15.17.1//NONSGML v1.0//EN
CALSCALE:GREGORIAN
METHOD:PUBLISH
X-WR-CALNAME:Warren-Trumbull County Public Library
X-ORIGINAL-URL:https://wtcpl.org
X-WR-CALDESC:Events for Warren-Trumbull County Public Library
REFRESH-INTERVAL;VALUE=DURATION:PT1H
X-Robots-Tag:noindex
X-PUBLISHED-TTL:PT1H
BEGIN:VTIMEZONE
TZID:America/New_York
BEGIN:DAYLIGHT
TZOFFSETFROM:-0500
TZOFFSETTO:-0400
TZNAME:EDT
DTSTART:20220313T070000
END:DAYLIGHT
BEGIN:STANDARD
TZOFFSETFROM:-0400
TZOFFSETTO:-0500
TZNAME:EST
DTSTART:20221106T060000
END:STANDARD
BEGIN:DAYLIGHT
TZOFFSETFROM:-0500
TZOFFSETTO:-0400
TZNAME:EDT
DTSTART:20230312T070000
END:DAYLIGHT
BEGIN:STANDARD
TZOFFSETFROM:-0400
TZOFFSETTO:-0500
TZNAME:EST
DTSTART:20231105T060000
END:STANDARD
BEGIN:DAYLIGHT
TZOFFSETFROM:-0500
TZOFFSETTO:-0400
TZNAME:EDT
DTSTART:20240310T070000
END:DAYLIGHT
BEGIN:STANDARD
TZOFFSETFROM:-0400
TZOFFSETTO:-0500
TZNAME:EST
DTSTART:20241103T060000
END:STANDARD
END:VTIMEZONE
BEGIN:VEVENT
DTSTART;TZID=America/New_York:20230821T180000
DTEND;TZID=America/New_York:20230821T190000
DTSTAMP:20260423T114025
CREATED:20230817T155319Z
LAST-MODIFIED:20230914T125630Z
UID:24600-1692640800-1692644400@wtcpl.org
SUMMARY:Beginning Computers 3 @ Warren Library
DESCRIPTION:Continue to learn about using Windows PCs\, including changing the desktop background and screen magnification\, creating shortcuts\, using folders\, and copy/paste. Prerequisites: “Beginning Computers 1 and 2”\, or familiarity with opening and closing Windows programs. Class will be held in the Warren Library Classroom (Room 215) on the 2nd floor. Registration is required; call (330) 399-8807 ext. 201 to sign up. Free!
URL:https://wtcpl.org/event/beginning-computers-3-warren-library-3/
LOCATION:Warren Library\, 444 Mahoning Avenue NW\, Warren\, OH\, 44483\, United States
CATEGORIES:Computer Class,Warren Library
END:VEVENT
BEGIN:VEVENT
DTSTART;TZID=America/New_York:20230823T180000
DTEND;TZID=America/New_York:20230823T190000
DTSTAMP:20260423T114025
CREATED:20230817T155529Z
LAST-MODIFIED:20230817T155529Z
UID:24602-1692813600-1692817200@wtcpl.org
SUMMARY:Microsoft Word 2 @ Warren Library
DESCRIPTION:
URL:https://wtcpl.org/event/microsoft-word-2-warren-library-3/
LOCATION:Warren Library\, 444 Mahoning Avenue NW\, Warren\, OH\, 44483\, United States
CATEGORIES:Computer Class,Warren Library
END:VEVENT
BEGIN:VEVENT
DTSTART;TZID=America/New_York:20230826T100000
DTEND;TZID=America/New_York:20230826T110000
DTSTAMP:20260423T114025
CREATED:20230817T155750Z
LAST-MODIFIED:20230817T155750Z
UID:24604-1693044000-1693047600@wtcpl.org
SUMMARY:Next Level Computer Learners Group @ Warren Library
DESCRIPTION:
URL:https://wtcpl.org/event/next-level-computer-learners-group-warren-library/
LOCATION:Warren Library\, 444 Mahoning Avenue NW\, Warren\, OH\, 44483\, United States
CATEGORIES:Computer Class,Warren Library
END:VEVENT
END:VCALENDAR